BEGIN:VCALENDAR
VERSION:2.0
PRODID:icalendar-ruby
CALSCALE:GREGORIAN
BEGIN:VEVENT
DTSTAMP:20260420T081805Z
UID:51218b84-1280-4e35-b65b-b403a2903cfd
DTSTART;VALUE=DATE:20250730
DESCRIPTION:Property ID# 594772\, Locatoin:  303 Remuera Road\, Remuera\, A
 uckland\, Time: 10:00AM
SUMMARY:Auction for 
END:VEVENT
END:VCALENDAR
