BEGIN:VCALENDAR
VERSION:2.0
PRODID:icalendar-ruby
CALSCALE:GREGORIAN
BEGIN:VEVENT
DTSTAMP:20260422T032209Z
UID:48b042b6-7dcf-4478-bf93-1ff04076b2af
DTSTART;VALUE=DATE:20201030
DESCRIPTION:Property ID# 492519\, Locatoin: 50 Remuera Road\, Time: 2:00PM
SUMMARY:Auction for 
END:VEVENT
END:VCALENDAR
