BEGIN:VCALENDAR
VERSION:2.0
PRODID:icalendar-ruby
CALSCALE:GREGORIAN
BEGIN:VEVENT
DTSTAMP:20260422T030959Z
UID:b9b1b690-ffab-4723-a0b2-08054caa5daa
DTSTART;VALUE=DATE:20200708
DESCRIPTION:Property ID# 482294\, Locatoin: 778 Manukau Road\, Royal Oak (u
 nless sold prior)\, Time: 6:00PM
SUMMARY:Auction for 
END:VEVENT
END:VCALENDAR
