BEGIN:VCALENDAR
VERSION:2.0
PRODID:icalendar-ruby
CALSCALE:GREGORIAN
BEGIN:VEVENT
DTSTAMP:20260422T031835Z
UID:cdee2806-6fa5-41da-85c0-e564014eb729
DTSTART;VALUE=DATE:20191120
DESCRIPTION:Property ID# 465132\, Locatoin: 778 Manukau Road\, Royal Oak\, 
 1023\, Time: 6:00PM
SUMMARY:Auction for 
END:VEVENT
END:VCALENDAR
